BEGIN:VCALENDAR
VERSION:2.0
PRODID:-//Charities for Children, Organizations to Help Children - ECPv6.9.0//NONSGML v1.0//EN
CALSCALE:GREGORIAN
METHOD:PUBLISH
X-ORIGINAL-URL:https://www.freshstart.org
X-WR-CALDESC:Events for Charities for Children, Organizations to Help Children
REFRESH-INTERVAL;VALUE=DURATION:PT1H
X-Robots-Tag:noindex
X-PUBLISHED-TTL:PT1H
BEGIN:VTIMEZONE
TZID:UTC
BEGIN:STANDARD
TZOFFSETFROM:+0000
TZOFFSETTO:+0000
TZNAME:UTC
DTSTART:20240101T000000
END:STANDARD
END:VTIMEZONE
BEGIN:VEVENT
DTSTART;TZID=UTC:20241102T071500
DTEND;TZID=UTC:20241102T120000
DTSTAMP:20260426T004254
CREATED:20240926T213144Z
LAST-MODIFIED:20240926T213151Z
UID:3828-1730531700-1730548800@www.freshstart.org
SUMMARY:Kaiser Permanente Thrive San Diego Marathon with Urban Dental
DESCRIPTION:Run a marathon and give children a chance at a fresh start in life at the Kaiser Permanente Thrive San Diego Marathon on Saturday\, November 2! \nFresh Start Surgical Gifts is grateful to be Urban Dental’s beneficiary at this year’s event! \nJoin us and bring your friends on this exciting day and choose between a 5K or a half marathon. \nRegister here today! \nUnable to attend the event but still want to help out? You may make your donations by clicking here and select “Urban Dental – Thrive Race 11/2”. \n 
URL:https://www.freshstart.org/community-events/kaiser-permanente-thrive-san-diego-marathon-with-urban-dental/
LOCATION:Mission Bay\, 1600 Vacation Rd\, San DIego\, CA\, 92109\, United States
ATTACH;FMTTYPE=image/png:https://www.freshstart.org/wp-content/uploads/2024/09/Urban-Dental-Fresh-Start.png
END:VEVENT
END:VCALENDAR