BEGIN:VCALENDAR
VERSION:2.0
PRODID:-//Charities for Children, Organizations to Help Children - ECPv6.9.0//NONSGML v1.0//EN
CALSCALE:GREGORIAN
METHOD:PUBLISH
X-ORIGINAL-URL:https://www.freshstart.org
X-WR-CALDESC:Events for Charities for Children, Organizations to Help Children
REFRESH-INTERVAL;VALUE=DURATION:PT1H
X-Robots-Tag:noindex
X-PUBLISHED-TTL:PT1H
BEGIN:VTIMEZONE
TZID:UTC
BEGIN:STANDARD
TZOFFSETFROM:+0000
TZOFFSETTO:+0000
TZNAME:UTC
DTSTART:20240101T000000
END:STANDARD
END:VTIMEZONE
BEGIN:VEVENT
DTSTART;TZID=UTC:20241107T190000
DTEND;TZID=UTC:20241107T210000
DTSTAMP:20260426T004233
CREATED:20241028T232533Z
LAST-MODIFIED:20241028T232533Z
UID:3855-1731006000-1731013200@www.freshstart.org
SUMMARY:Chula Vista Brewery Trivia - 3rd Ave
DESCRIPTION:Join us on November 7th at Chula Vista Brewery on Third Avenue for a blast from the past at our Oldies but Goodies Music Trivia. While you enjoy the classics and show off your skills\, throw back some brews from Chula Vista Brewery. Proceeds go towards providing a Fresh Start for children with physical deformities so help us transform lives as we transform your night!
URL:https://www.freshstart.org/community-events/chula-vista-brewery-trivia-3rd-ave/
LOCATION:Chula Vista Brewery\, 294 Third Ave\, Chula Vista\, CA\, 91910\, United States
ATTACH;FMTTYPE=image/jpeg:https://www.freshstart.org/wp-content/uploads/2024/10/Chula-Vista-Brewery-Trivia-3rd-Ave-11-7-24-Digital.jpg
END:VEVENT
END:VCALENDAR