BEGIN:VCALENDAR
VERSION:2.0
PRODID:-//Charities for Children, Organizations to Help Children - ECPv6.9.0//NONSGML v1.0//EN
CALSCALE:GREGORIAN
METHOD:PUBLISH
X-ORIGINAL-URL:https://www.freshstart.org
X-WR-CALDESC:Events for Charities for Children, Organizations to Help Children
REFRESH-INTERVAL;VALUE=DURATION:PT1H
X-Robots-Tag:noindex
X-PUBLISHED-TTL:PT1H
BEGIN:VTIMEZONE
TZID:UTC
BEGIN:STANDARD
TZOFFSETFROM:+0000
TZOFFSETTO:+0000
TZNAME:UTC
DTSTART:20240101T000000
END:STANDARD
END:VTIMEZONE
BEGIN:VEVENT
DTSTART;TZID=UTC:20241128T064500
DTEND;TZID=UTC:20241128T102500
DTSTAMP:20260426T021141
CREATED:20241028T221339Z
LAST-MODIFIED:20241101T201913Z
UID:3848-1732776300-1732789500@www.freshstart.org
SUMMARY:O'Side Turkey Trot
DESCRIPTION:Thursday\, November 28 \n6:45 – 10:25 AM \nFresh Start is participating in the 19th Annual O’side Turkey Trot 5 Mile & 5K Run/Walk! “Move Your Feet Before You Eat.” When participants register\, it allows 10% of their fee to be donated to the charity of their choice. Fresh Start has officially been added to that list\, so if you are participating\, be sure to support Fresh Start Children’s Charity! \nThe scenic beachside course starts on Coast Highway and ends behind the amphitheater on the strand in Oceanside and features a fast 5K course with flat stretches\, water views and ocean breezes. \nClick Here to Register \nEvent Details: \nEarly Wave 5K Start Time: 6:45am \n\nNew 5K option! The Early Wave 5K at 6:45am replaces the 5 Mile option.\nStart Line Location: 330 N. Coast Highway\nFinish Line Location: The Strand & Seagaze\n\nMain Wave 5K Start Time: 8:05am \n\nStart Line Location: 330 N. Coast Highway\nFinish Line Location: The Strand & Seagaze\n\nKids 1 Mile Start Time: 10:00am \n\nStart Line Location: Tyson and Pacific\nFinish Line Location: The Strand & Seagaze\n\nKids 1/5 Mile Start Time: 10:25am \n\nStart Line Location: Tyson Park\nFinish Line Location: The Strand & Seagaze
URL:https://www.freshstart.org/community-events/oside-turkey-trot/
LOCATION:Oceanside Coast Highway\, 330 N. Coast Highway\, Oceanside\, 92054\, United States
ATTACH;FMTTYPE=image/jpeg:https://www.freshstart.org/wp-content/uploads/2024/10/Oside-turkey-trot.jpg
END:VEVENT
END:VCALENDAR