BEGIN:VCALENDAR
VERSION:2.0
PRODID:-//Charities for Children, Organizations to Help Children - ECPv6.9.0//NONSGML v1.0//EN
CALSCALE:GREGORIAN
METHOD:PUBLISH
X-WR-CALNAME:Charities for Children, Organizations to Help Children
X-ORIGINAL-URL:https://www.freshstart.org
X-WR-CALDESC:Events for Charities for Children, Organizations to Help Children
REFRESH-INTERVAL;VALUE=DURATION:PT1H
X-Robots-Tag:noindex
X-PUBLISHED-TTL:PT1H
BEGIN:VTIMEZONE
TZID:UTC
BEGIN:STANDARD
TZOFFSETFROM:+0000
TZOFFSETTO:+0000
TZNAME:UTC
DTSTART:20240101T000000
END:STANDARD
END:VTIMEZONE
BEGIN:VEVENT
DTSTART;TZID=UTC:20241130T120000
DTEND;TZID=UTC:20241130T140000
DTSTAMP:20260424T044847
CREATED:20241126T171950Z
LAST-MODIFIED:20241126T171950Z
UID:3974-1732968000-1732975200@www.freshstart.org
SUMMARY:Kendra Scott Give Back Event Nov 30
DESCRIPTION:[vc_row][vc_column][vc_column_text css=””]Join us at this year’s Kendra Scott event\, where you can find the perfect gift for your loved ones! 20% of all purchases will benefit Fresh Start Surgical Gifts and provide support to children who are in need of a fresh start. If you can’t make it in\, shop online anytime on Saturday\, November 30\, or Sunday\, December 1\, using code GIVEBACK-HMIIC at https://www.kendrascott.com/.[/vc_column_text][/vc_column][/vc_row]
URL:https://www.freshstart.org/community-events/kendra-scott-give-back-event-nov-30/
LOCATION:Kendra Scott UTC\, 4545 La Jolla Village Drive\, San Diego\, CA\, 92122\, United States
ATTACH;FMTTYPE=image/webp:https://www.freshstart.org/wp-content/uploads/2024/11/FS-Kendra-Scott-NOV-30-2024-event.webp
END:VEVENT
END:VCALENDAR