BEGIN:VCALENDAR
VERSION:2.0
PRODID:-//Charities for Children, Organizations to Help Children - ECPv6.9.0//NONSGML v1.0//EN
CALSCALE:GREGORIAN
METHOD:PUBLISH
X-WR-CALNAME:Charities for Children, Organizations to Help Children
X-ORIGINAL-URL:https://www.freshstart.org
X-WR-CALDESC:Events for Charities for Children, Organizations to Help Children
REFRESH-INTERVAL;VALUE=DURATION:PT1H
X-Robots-Tag:noindex
X-PUBLISHED-TTL:PT1H
BEGIN:VTIMEZONE
TZID:UTC
BEGIN:STANDARD
TZOFFSETFROM:+0000
TZOFFSETTO:+0000
TZNAME:UTC
DTSTART:20240101T000000
END:STANDARD
END:VTIMEZONE
BEGIN:VEVENT
DTSTART;TZID=UTC:20241214T110000
DTEND;TZID=UTC:20241214T130000
DTSTAMP:20260424T031646
CREATED:20241109T015234Z
LAST-MODIFIED:20241109T015350Z
UID:3883-1734174000-1734181200@www.freshstart.org
SUMMARY:Holiday Market
DESCRIPTION:[vc_row][vc_column][vc_column_text css=””] \n\n\n\n\nEmpower House is hosting a Holiday Market and Resource Fair open to all who would like to join. The event will take place Saturday\, December 14\, from 11 AM to 1 PM. There will be snacks\, vaccinations\, door prizes and the opportunity to take pictures with Santa Claus! Come out and join us for a fun and exciting event!\nNurse Angela will be available to answer any questions and provide information about Fresh Start.[/vc_column_text][/vc_column][/vc_row]
URL:https://www.freshstart.org/community-events/holiday-market/
LOCATION:Empower House\, 801 N Olive St\, San Antonio\, TX\, 78202\, United States
ATTACH;FMTTYPE=image/webp:https://www.freshstart.org/wp-content/uploads/2024/11/FS-holiday-market-800x1036-english-1.webp
END:VEVENT
END:VCALENDAR