BEGIN:VCALENDAR
VERSION:2.0
PRODID:-//Charities for Children, Organizations to Help Children - ECPv6.9.0//NONSGML v1.0//EN
CALSCALE:GREGORIAN
METHOD:PUBLISH
X-WR-CALNAME:Charities for Children, Organizations to Help Children
X-ORIGINAL-URL:https://www.freshstart.org
X-WR-CALDESC:Events for Charities for Children, Organizations to Help Children
REFRESH-INTERVAL;VALUE=DURATION:PT1H
X-Robots-Tag:noindex
X-PUBLISHED-TTL:PT1H
BEGIN:VTIMEZONE
TZID:UTC
BEGIN:STANDARD
TZOFFSETFROM:+0000
TZOFFSETTO:+0000
TZNAME:UTC
DTSTART:20250101T000000
END:STANDARD
END:VTIMEZONE
BEGIN:VEVENT
DTSTART;TZID=UTC:20250405T100000
DTEND;TZID=UTC:20250405T130000
DTSTAMP:20260422T111019
CREATED:20250311T233836Z
LAST-MODIFIED:20250311T233836Z
UID:4185-1743847200-1743858000@www.freshstart.org
SUMMARY:Kids Day at the Park | San Antonio
DESCRIPTION:[vc_row][vc_column][vc_column_text css=””]Join us for Kids Day at the Park\, an exciting and engaging event filled with games\, activities\, PBS Kids character meet and greets and much more. Nurse Angela will be available to answer questions or provide information about Fresh Start.[/vc_column_text][/vc_column][/vc_row]
URL:https://www.freshstart.org/community-events/kids-day-at-the-park/
LOCATION:San Pedro Springs Park\, 2200 N Flores St\, San Antonio\, TX\, 78212\, United States
ATTACH;FMTTYPE=image/jpeg:https://www.freshstart.org/wp-content/uploads/2025/03/Kids-Day-at-the-Park.jpg
END:VEVENT
END:VCALENDAR