BEGIN:VCALENDAR
VERSION:2.0
PRODID:-//Charities for Children, Organizations to Help Children - ECPv6.9.0//NONSGML v1.0//EN
CALSCALE:GREGORIAN
METHOD:PUBLISH
X-ORIGINAL-URL:https://www.freshstart.org
X-WR-CALDESC:Events for Charities for Children, Organizations to Help Children
REFRESH-INTERVAL;VALUE=DURATION:PT1H
X-Robots-Tag:noindex
X-PUBLISHED-TTL:PT1H
BEGIN:VTIMEZONE
TZID:UTC
BEGIN:STANDARD
TZOFFSETFROM:+0000
TZOFFSETTO:+0000
TZNAME:UTC
DTSTART:20250101T000000
END:STANDARD
END:VTIMEZONE
BEGIN:VEVENT
DTSTART;TZID=UTC:20250418T190000
DTEND;TZID=UTC:20250418T210000
DTSTAMP:20260422T061433
CREATED:20250409T181356Z
LAST-MODIFIED:20250409T181356Z
UID:4228-1745002800-1745010000@www.freshstart.org
SUMMARY:90's Music Trivia Night | Weir Beer Brewery
DESCRIPTION:[vc_row][vc_column][vc_column_text css=””]Dust off your Furbies and find your slap bracelets\, because Fresh Start Surgical Gifts and Weir Beer are throwing it back to the raddest era at our 90’s Music Trivia Night! \nSwing by to support Fresh Start and make a difference in the lives of children and survivors. A $10 donation is suggested. Donate using the link below: \nhttps://freshstart.networkforgood.com/projects/249387-fresh-start-weir-beer-music-trivia-night[/vc_column_text][/vc_column][/vc_row]
URL:https://www.freshstart.org/community-events/90s-music-trivia-night-weir-beer-brewery/
LOCATION:Weir Beer\, 1250 Keystone Way\, Vista\, CA\, 92081\, United States
ATTACH;FMTTYPE=image/jpeg:https://www.freshstart.org/wp-content/uploads/2025/04/Weir-Beer-Flyer.jpg
END:VEVENT
END:VCALENDAR