BEGIN:VCALENDAR
VERSION:2.0
PRODID:-//Charities for Children, Organizations to Help Children - ECPv6.9.0//NONSGML v1.0//EN
CALSCALE:GREGORIAN
METHOD:PUBLISH
X-ORIGINAL-URL:https://www.freshstart.org
X-WR-CALDESC:Events for Charities for Children, Organizations to Help Children
REFRESH-INTERVAL;VALUE=DURATION:PT1H
X-Robots-Tag:noindex
X-PUBLISHED-TTL:PT1H
BEGIN:VTIMEZONE
TZID:UTC
BEGIN:STANDARD
TZOFFSETFROM:+0000
TZOFFSETTO:+0000
TZNAME:UTC
DTSTART:20250101T000000
END:STANDARD
END:VTIMEZONE
BEGIN:VEVENT
DTSTART;TZID=UTC:20250503T180500
DTEND;TZID=UTC:20250503T180500
DTSTAMP:20260422T202528
CREATED:20250404T002849Z
LAST-MODIFIED:20250404T003202Z
UID:4199-1746295500-1746295500@www.freshstart.org
SUMMARY:San Diego Mojo Volleyball’s Bear Drive for Fresh Start Surgical Gifts
DESCRIPTION:[vc_row][vc_column][vc_column_text css=””]Join the San Diego Mojo in making a difference! 20% of proceeds from tickets purchased through the link below will benefit Fresh Start\, with donations going toward teddy bears. These cuddly companions will be given to brave children on their surgery day\, providing comfort and a sense of security during a life-changing moment. \nYour thoughtful donation will help make their big day a little brighter. Let’s rally together for these courageous kids and give them the love and encouragement they deserve! \nClick the link below to purchase tickets: \nhttps://fevo-enterprise.com/s/other/Freshstart420241217-16360002?purl=0a1df643e4d6[/vc_column_text][/vc_column][/vc_row]
URL:https://www.freshstart.org/community-events/mojo-teddy-bear-drive/
LOCATION:Viejas Arena at SDSU\, 5500 Canyon Crest Drive\, San Diego\, CA\, 92182\, United States
ATTACH;FMTTYPE=image/jpeg:https://www.freshstart.org/wp-content/uploads/2025/04/fs-mojo-event-img.jpg
END:VEVENT
END:VCALENDAR