BEGIN:VCALENDAR
VERSION:2.0
PRODID:-//Charities for Children, Organizations to Help Children - ECPv6.9.0//NONSGML v1.0//EN
CALSCALE:GREGORIAN
METHOD:PUBLISH
X-WR-CALNAME:Charities for Children, Organizations to Help Children
X-ORIGINAL-URL:https://www.freshstart.org
X-WR-CALDESC:Events for Charities for Children, Organizations to Help Children
REFRESH-INTERVAL;VALUE=DURATION:PT1H
X-Robots-Tag:noindex
X-PUBLISHED-TTL:PT1H
BEGIN:VTIMEZONE
TZID:UTC
BEGIN:STANDARD
TZOFFSETFROM:+0000
TZOFFSETTO:+0000
TZNAME:UTC
DTSTART:20250101T000000
END:STANDARD
END:VTIMEZONE
BEGIN:VEVENT
DTSTART;TZID=UTC:20250523T190000
DTEND;TZID=UTC:20250523T210000
DTSTAMP:20260422T025333
CREATED:20250414T200557Z
LAST-MODIFIED:20250414T200746Z
UID:4236-1748026800-1748034000@www.freshstart.org
SUMMARY:2010s Hit Music Trivia Night | Mission Brewing
DESCRIPTION:[vc_row][vc_column][vc_column_text css=””]Join us for a fun-filled trivia night and giving back at Mission Brewing’s Del Mar Sky Deck location! Get ready to test your knowledge of 2010s hit music — from chart-topping pop anthems to unforgettable indie tracks\, we’ll cover it all! Don’t miss out on this ultimate night of music and philanthropy. Grab your friends\, enjoy some craft beers and get ready to rock your knowledge of the hits that defined the 2010s. \nThis event is free to play\, but a donation of $10 is suggested to benefit Fresh Start Surgical Gifts and Unbranded for a Fresh Start. 100% of all donations will help transform the lives of children and survivors\, so let’s have fun and make a difference together! \nDonate using the link below: \nhttps://freshstart.networkforgood.com/projects/246593-2010-s-hits-mission-brewing-trivia-night[/vc_column_text][/vc_column][/vc_row]
URL:https://www.freshstart.org/community-events/2010s-hit-music-trivia-night-mission-brewing/
LOCATION:Mission Brewing – Del Mar Sky Deck\, 12841 El Camino Real\, San Diego\, CA\, 92130\, United States
ATTACH;FMTTYPE=image/jpeg:https://www.freshstart.org/wp-content/uploads/2025/04/2010sMusicTrivia-.jpg
END:VEVENT
END:VCALENDAR