BEGIN:VCALENDAR
VERSION:2.0
PRODID:-//Charities for Children, Organizations to Help Children - ECPv6.9.0//NONSGML v1.0//EN
CALSCALE:GREGORIAN
METHOD:PUBLISH
X-WR-CALNAME:Charities for Children, Organizations to Help Children
X-ORIGINAL-URL:https://www.freshstart.org
X-WR-CALDESC:Events for Charities for Children, Organizations to Help Children
REFRESH-INTERVAL;VALUE=DURATION:PT1H
X-Robots-Tag:noindex
X-PUBLISHED-TTL:PT1H
BEGIN:VTIMEZONE
TZID:UTC
BEGIN:STANDARD
TZOFFSETFROM:+0000
TZOFFSETTO:+0000
TZNAME:UTC
DTSTART:20250101T000000
END:STANDARD
END:VTIMEZONE
BEGIN:VEVENT
DTSTART;TZID=UTC:20250608T180000
DTEND;TZID=UTC:20250608T180000
DTSTAMP:20260422T024138
CREATED:20250221T004245Z
LAST-MODIFIED:20250221T004550Z
UID:4148-1749405600-1749405600@www.freshstart.org
SUMMARY:10th Annual Celebrity Golf Classic Dinner Hosted by Jermaine Dye | Chicago
DESCRIPTION:[vc_row][vc_column][vc_column_text css=””]\nJoin us for the 10th Annual Celebrity Golf Classic in St. Charles\, IL. Enjoy cocktails\, dinner and program with an exciting live and silent auction at Hotel Baker while helping us swing toward a brighter future for children in need of reconstructive surgery! Donations and sponsorships are still available. Reach out to Brandy Schwab at Brandy@FreshStart.org for more information or visit the link below. https://freshstartsg.ejoinme.org/MyEvents/FreshStart2025ChicagoCelebrityGolfClassic/tabid/1520276/Default.aspx[/vc_column_text][/vc_column][/vc_row]
URL:https://www.freshstart.org/community-events/10th-annual-celebrity-golf-classic-dinner-hosted-by-jermaine-dye-chicago/
LOCATION:Hotel Baker\, 100 W Main Street\, St. Charles\, IL\, 60174\, United States
ATTACH;FMTTYPE=image/jpeg:https://www.freshstart.org/wp-content/uploads/2025/02/2025-Chicago-Golf-Save-the-Date-1.jpg
END:VEVENT
END:VCALENDAR