BEGIN:VCALENDAR
VERSION:2.0
PRODID:-//Charities for Children, Organizations to Help Children - ECPv6.9.0//NONSGML v1.0//EN
CALSCALE:GREGORIAN
METHOD:PUBLISH
X-WR-CALNAME:Charities for Children, Organizations to Help Children
X-ORIGINAL-URL:https://www.freshstart.org
X-WR-CALDESC:Events for Charities for Children, Organizations to Help Children
REFRESH-INTERVAL;VALUE=DURATION:PT1H
X-Robots-Tag:noindex
X-PUBLISHED-TTL:PT1H
BEGIN:VTIMEZONE
TZID:UTC
BEGIN:STANDARD
TZOFFSETFROM:+0000
TZOFFSETTO:+0000
TZNAME:UTC
DTSTART:20250101T000000
END:STANDARD
END:VTIMEZONE
BEGIN:VEVENT
DTSTART;TZID=UTC:20250609T073000
DTEND;TZID=UTC:20250609T073000
DTSTAMP:20260421T233929
CREATED:20250221T005054Z
LAST-MODIFIED:20250221T005541Z
UID:4152-1749454200-1749454200@www.freshstart.org
SUMMARY:10th Annual Celebrity Golf Classic Hosted by Jermaine Dye | Chicago
DESCRIPTION:[vc_row][vc_column][vc_column_text css=””]\nJoin us for the 10th Annual Celebrity Golf Classic in St. Charles\, IL. Help us swing toward a brighter future for children in need of reconstructive surgery! Donations and sponsorships are still available. Reach out to Brandy Schwab at Brandy@FreshStart.org for more information or visit the link below. https://freshstartsg.ejoinme.org/MyEvents/FreshStart2025ChicagoCelebrityGolfClassic/tabid/1520276/Default.aspx[/vc_column_text][/vc_column][/vc_row]
URL:https://www.freshstart.org/community-events/10th-annual-celebrity-golf-classic-hosted-by-jermaine-dye-chicago/
LOCATION:St. Charles Country Club\, 1250 Country Club Road\, St. Charles\, IL\, 60174\, United States
ATTACH;FMTTYPE=image/jpeg:https://www.freshstart.org/wp-content/uploads/2025/02/2025-Chicago-Golf-Save-the-Date-1.jpg
END:VEVENT
END:VCALENDAR