BEGIN:VCALENDAR
VERSION:2.0
PRODID:-//Charities for Children, Organizations to Help Children - ECPv6.9.0//NONSGML v1.0//EN
CALSCALE:GREGORIAN
METHOD:PUBLISH
X-ORIGINAL-URL:https://www.freshstart.org
X-WR-CALDESC:Events for Charities for Children, Organizations to Help Children
REFRESH-INTERVAL;VALUE=DURATION:PT1H
X-Robots-Tag:noindex
X-PUBLISHED-TTL:PT1H
BEGIN:VTIMEZONE
TZID:UTC
BEGIN:STANDARD
TZOFFSETFROM:+0000
TZOFFSETTO:+0000
TZNAME:UTC
DTSTART:20250101T000000
END:STANDARD
END:VTIMEZONE
BEGIN:VEVENT
DTSTART;TZID=UTC:20251011T093000
DTEND;TZID=UTC:20251011T093000
DTSTAMP:20260419T212732
CREATED:20250930T181153Z
LAST-MODIFIED:20250930T184159Z
UID:4684-1760175000-1760175000@www.freshstart.org
SUMMARY:Class for a Cause
DESCRIPTION:Join us on Saturday\, October 11\, for a yoga class you won’t forget — all while supporting a great cause. A suggested $10 donation will benefit Fresh Start Surgical Gifts\, a nonprofit whose mission is to provide life-changing surgery and medical care to children with physical deformities. \nClass times are as follows: 9:30 am and 11:00 am. \nSign up through the Affirmations of Wellness app.
URL:https://www.freshstart.org/community-events/class-for-a-cause-2/
LOCATION:Affirmation of Wellness\, 713 Mission Ave\, Ste A\, Oceanside\, 92054\, United States
ATTACH;FMTTYPE=image/jpeg:https://www.freshstart.org/wp-content/uploads/2025/09/class-for-a-cause-AOW-flyer-1.jpg
END:VEVENT
END:VCALENDAR