BEGIN:VCALENDAR
VERSION:2.0
PRODID:-//Charities for Children, Organizations to Help Children - ECPv6.9.0//NONSGML v1.0//EN
CALSCALE:GREGORIAN
METHOD:PUBLISH
X-WR-CALNAME:Charities for Children, Organizations to Help Children
X-ORIGINAL-URL:https://www.freshstart.org
X-WR-CALDESC:Events for Charities for Children, Organizations to Help Children
REFRESH-INTERVAL;VALUE=DURATION:PT1H
X-Robots-Tag:noindex
X-PUBLISHED-TTL:PT1H
BEGIN:VTIMEZONE
TZID:UTC
BEGIN:STANDARD
TZOFFSETFROM:+0000
TZOFFSETTO:+0000
TZNAME:UTC
DTSTART:20230101T000000
END:STANDARD
END:VTIMEZONE
BEGIN:VEVENT
DTSTART;TZID=UTC:20230622T190000
DTEND;TZID=UTC:20230622T190000
DTSTAMP:20260420T203728
CREATED:20230921T225041Z
LAST-MODIFIED:20230921T225041Z
UID:2540-1687460400-1687460400@www.freshstart.org
SUMMARY:Music Trivia Night
DESCRIPTION:
URL:https://www.freshstart.org/community-events/music-trivia-night/
LOCATION:Pretzels & Pints\, 3812 Ray St\, San Diego\, CA\, 92104\, United States
ATTACH;FMTTYPE=image/png:https://www.freshstart.org/wp-content/uploads/2023/09/Fresh-Start-Charity-Night-at-Pretzels-Pints-6-22-23.png
END:VEVENT
END:VCALENDAR