BEGIN:VCALENDAR
VERSION:2.0
PRODID:-//Charities for Children, Organizations to Help Children - ECPv6.9.0//NONSGML v1.0//EN
CALSCALE:GREGORIAN
METHOD:PUBLISH
X-WR-CALNAME:Charities for Children, Organizations to Help Children
X-ORIGINAL-URL:https://www.freshstart.org
X-WR-CALDESC:Events for Charities for Children, Organizations to Help Children
REFRESH-INTERVAL;VALUE=DURATION:PT1H
X-Robots-Tag:noindex
X-PUBLISHED-TTL:PT1H
BEGIN:VTIMEZONE
TZID:UTC
BEGIN:STANDARD
TZOFFSETFROM:+0000
TZOFFSETTO:+0000
TZNAME:UTC
DTSTART:20230101T000000
END:STANDARD
END:VTIMEZONE
BEGIN:VEVENT
DTSTART;TZID=UTC:20231115T123000
DTEND;TZID=UTC:20231115T133000
DTSTAMP:20260420T002322
CREATED:20231108T175931Z
LAST-MODIFIED:20231108T175931Z
UID:2651-1700051400-1700055000@www.freshstart.org
SUMMARY:Assembly of God Church Food Pantry
DESCRIPTION:Fresh Start Surgical Gifts will be providing information and available to answer questions at the Assembly of God Church food pantry from 12:30-1:30 PM on Wednesday\, November 15 at 3737 Wightman St. San Diego.
URL:https://www.freshstart.org/community-events/assembly-of-god-church-food-pantry/
LOCATION:Assembly of God Church\, 3737 Wightman St\, San Diego\, CA\, 92105\, United States
ATTACH;FMTTYPE=image/png:https://www.freshstart.org/wp-content/uploads/2023/11/Assembly-of-God-Logo.png
END:VEVENT
BEGIN:VEVENT
DTSTART;TZID=UTC:20231029T130000
DTEND;TZID=UTC:20231029T170000
DTSTAMP:20260420T002322
CREATED:20230921T223612Z
LAST-MODIFIED:20230922T203742Z
UID:2524-1698584400-1698598800@www.freshstart.org
SUMMARY:HalloEast
DESCRIPTION:Calling all interested in having a vendor table at our upcoming HalloEast! Free to join in (with candy donation). Great opportunity to distribute your organization’s literature to and meet with hundreds of families. \nLooking to pack the park out! \nHalloEast is an event organized to provide a safe and friendly environment for children and their families to collect free candy on our Eastside! This year’s HalloEast will take place on Sunday\, October 29\, 2023 at 1:00pm at Pittman-Sullivan Park. \nLast year’s event hosted over 850 residents who received over 400 pounds of free candy\, free food and drinks\, entertainment\, networked with 48 resource partners and businesses\, and received 250+ vaccines through our partnership with WestCare and UIW. \nContact Lindsey Logan at LLogan@sagesa.org for more information. \nFresh Start Medical Program Manager Nurse Angela will be on site to share information and answer questions. \nWe look forward to this year’s spooktacular celebration!
URL:https://www.freshstart.org/community-events/halloeast/
LOCATION:Pittman Sullivan Park\, 1101 Iowa St\, San Antonio\, TX\, 78203\, United States
ATTACH;FMTTYPE=image/jpeg:https://www.freshstart.org/wp-content/uploads/2023/09/HalloEast-aerial-20224-scaled-1.jpg
END:VEVENT
BEGIN:VEVENT
DTSTART;TZID=UTC:20231014T180000
DTEND;TZID=UTC:20231014T210000
DTSTAMP:20260420T002322
CREATED:20230921T224016Z
LAST-MODIFIED:20230922T203814Z
UID:2528-1697306400-1697317200@www.freshstart.org
SUMMARY:Annual Kids Fall Festival
DESCRIPTION:We are excited to invite you to be a part of our Annual Kids Fall Festival at The Mission Marquee Plaza on October 14th 2023. \nThis annual event is free and open to the entire community. We will have an outdoor screening\, prizes\, interactive activities\, and valuable family-oriented information. Additionally\, attendees will have the chance to interact with a beloved special guest from PBS KIDS! \nPlease register with the link on the invitation to ensure your organization has a spot at this event. Let me know if you have any questions. We are looking forward to having you at this event! \nFresh Start Medical Program Manager Nurse Angela will be on site to share information and answer questions.
URL:https://www.freshstart.org/community-events/annual-kids-fall-festival/
LOCATION:Mission Marquee Plaza\, 3100 Roosevelt Ave\, San Antonio\, TX\, 78214\, United States
ATTACH;FMTTYPE=image/png:https://www.freshstart.org/wp-content/uploads/2023/09/2023-October-14-FALL-FEST_V2.png
END:VEVENT
BEGIN:VEVENT
DTSTART;TZID=UTC:20231007T100000
DTEND;TZID=UTC:20231007T140000
DTSTAMP:20260420T002322
CREATED:20230921T234758Z
LAST-MODIFIED:20230922T203918Z
UID:2546-1696672800-1696687200@www.freshstart.org
SUMMARY:Vive tu Vida
DESCRIPTION:Viva to Vida: Family Health Centers of San Diego will be hosting its annual Vive tu Vida Event once again this year. It is a free\, fun-filled event for the whole community to enjoy. It will be held on Saturday\, October 7th\, 2023\, from 10:00 am-2:00 pm at Memorial Community Park on Ocean View Ave. The event will include fun activities and free services such as Zumba\, inflatable obstacle courses\, health screenings\, and program information. Fresh Start will be attending and hosting a screening clinic. \nFresh Start Medical Program Director Nurse Jill will be on site to share information and answer questions.
URL:https://www.freshstart.org/community-events/vive-tu-vida/
LOCATION:Memorial Community Park\, 2975 Ocean View Blvd.\, San Diego\, CA\, 92113\, United States
ATTACH;FMTTYPE=image/jpeg:https://www.freshstart.org/wp-content/uploads/2023/09/VTV-Save-the-Date-Email.jpg
END:VEVENT
BEGIN:VEVENT
DTSTART;TZID=UTC:20230930T170000
DTEND;TZID=UTC:20230930T220000
DTSTAMP:20260420T002322
CREATED:20230921T224422Z
LAST-MODIFIED:20230921T224422Z
UID:2532-1696093200-1696111200@www.freshstart.org
SUMMARY:2023 Butterfly Ball
DESCRIPTION:
URL:https://www.freshstart.org/community-events/2023-butterfly-ball/
LOCATION:Hard Rock Hotel San Diego\, 207 Fifth Ave\, San Diego\, CA\, 92101\, United States
ATTACH;FMTTYPE=image/jpeg:https://www.freshstart.org/wp-content/uploads/2023/09/V4-FS4_2023-Gala-Sponsorship-Forms-Oktoberfest-6945-1-1-scaled-1.jpg
END:VEVENT
BEGIN:VEVENT
DTSTART;TZID=UTC:20230831T180000
DTEND;TZID=UTC:20230831T220000
DTSTAMP:20260420T002322
CREATED:20230921T224729Z
LAST-MODIFIED:20230921T224729Z
UID:2536-1693504800-1693519200@www.freshstart.org
SUMMARY:Time Warp 80s Party
DESCRIPTION:
URL:https://www.freshstart.org/community-events/time-warp-80s-party/
LOCATION:Park & Rec\, 4612 Park Blvd\, San Diego\, CA\, 92116\, United States
ATTACH;FMTTYPE=image/jpeg:https://www.freshstart.org/wp-content/uploads/2023/09/V5_9289_80s-Trivia-Night-1-scaled-1.jpg
END:VEVENT
BEGIN:VEVENT
DTSTART;TZID=UTC:20230622T190000
DTEND;TZID=UTC:20230622T190000
DTSTAMP:20260420T002322
CREATED:20230921T225041Z
LAST-MODIFIED:20230921T225041Z
UID:2540-1687460400-1687460400@www.freshstart.org
SUMMARY:Music Trivia Night
DESCRIPTION:
URL:https://www.freshstart.org/community-events/music-trivia-night/
LOCATION:Pretzels & Pints\, 3812 Ray St\, San Diego\, CA\, 92104\, United States
ATTACH;FMTTYPE=image/png:https://www.freshstart.org/wp-content/uploads/2023/09/Fresh-Start-Charity-Night-at-Pretzels-Pints-6-22-23.png
END:VEVENT
END:VCALENDAR