BEGIN:VCALENDAR
VERSION:2.0
PRODID:-//Charities for Children, Organizations to Help Children - ECPv6.9.0//NONSGML v1.0//EN
CALSCALE:GREGORIAN
METHOD:PUBLISH
X-ORIGINAL-URL:https://www.freshstart.org
X-WR-CALDESC:Events for Charities for Children, Organizations to Help Children
REFRESH-INTERVAL;VALUE=DURATION:PT1H
X-Robots-Tag:noindex
X-PUBLISHED-TTL:PT1H
BEGIN:VTIMEZONE
TZID:UTC
BEGIN:STANDARD
TZOFFSETFROM:+0000
TZOFFSETTO:+0000
TZNAME:UTC
DTSTART:20250101T000000
END:STANDARD
END:VTIMEZONE
BEGIN:VEVENT
DTSTART;VALUE=DATE:20250101
DTEND;VALUE=DATE:20250201
DTSTAMP:20260423T133324
CREATED:20241230T173429Z
LAST-MODIFIED:20241230T173448Z
UID:4024-1735689600-1738367999@www.freshstart.org
SUMMARY:Mermaid Streak Challenge
DESCRIPTION:[vc_row][vc_column][vc_column_text css=””] \nThe first Mermaid Series event of the year is here! Fresh Start Surgical Gifts is partnering with Mermaid Series for their Mermaid Streak Challenge\, a 31-day virtual challenge where you commit to moving for 30 or 60 minutes every day! \nEvery registration donation supports Fresh Start\, so make sure to sign up and join us for this amazing challenge! To register\, visit the link below and use our promo code FreshStart2024 for an exclusive 10% off! https://www.mermaidseries.com/virtual-streak-challenge \n[/vc_column_text][/vc_column][/vc_row]
URL:https://www.freshstart.org/community-events/mermaid-streak-challenge/
LOCATION:CA
ATTACH;FMTTYPE=image/jpeg:https://www.freshstart.org/wp-content/uploads/2024/12/V5-20549_Mermaid-Series-Virtual-Streak-Challenge-Digital-Flyer-800w.jpg
END:VEVENT
BEGIN:VEVENT
DTSTART;TZID=UTC:20250116T190500
DTEND;TZID=UTC:20250116T190500
DTSTAMP:20260423T133324
CREATED:20250110T001313Z
LAST-MODIFIED:20250110T001313Z
UID:4045-1737054300-1737054300@www.freshstart.org
SUMMARY:Major League Volleyball Friends and Family Offer!
DESCRIPTION:[vc_row][vc_column][vc_column_text css=””]We’re starting 2025 with a very exciting partnership! Please join us at the San Diego Mojo Major League Volleyball home opener\, where 20% of ticket sales sold through our link will be donated to Fresh Start. \nSupport women’s sports and transform the lives of children in need! Visit https://fevo-enterprise.com/event/Freshstart420241217-16360001?r=99 to purchase your tickets![/vc_column_text][/vc_column][/vc_row]
URL:https://www.freshstart.org/community-events/major-league-volleyball-friends-and-family-offer/
LOCATION:Viejas Arena at SDSU\, 5500 Canyon Crest Drive\, San Diego\, CA\, 92182\, United States
ATTACH;FMTTYPE=image/jpeg:https://www.freshstart.org/wp-content/uploads/2025/01/V5-20549_Mermaid-Series-Virtual-Streak-Challenge-Digital-Flyer-800wn.jpg
END:VEVENT
BEGIN:VEVENT
DTSTART;TZID=UTC:20250118T073000
DTEND;TZID=UTC:20250118T100000
DTSTAMP:20260423T133324
CREATED:20241231T003225Z
LAST-MODIFIED:20241231T003225Z
UID:4028-1737185400-1737194400@www.freshstart.org
SUMMARY:Class for a Cause
DESCRIPTION:[vc_row][vc_column][vc_column_text css=””]Join us for an exhilarating workout for a cause! Classes are 55 minutes long and refreshments are provided. Choose a class that fits your schedule. All fitness levels are welcome! Class times are as follows: 7:30 AM\, 8:45 AM and 10 AM. \nTempo Training is a studio that offers running-focused group fitness classes coached by a professional trainer. To register and donate\, download or visit the TEMPO training app\, pick a class\, select “buy an add on” and choose “Fresh Start” when registering. \nGoogle Play: https://play.google.com/store/apps/details?id=com.marianatek.temposd&hl=en_US \nApple: https://apps.apple.com/us/app/tempo-training-sd/id6737202774[/vc_column_text][/vc_column][/vc_row]
URL:https://www.freshstart.org/community-events/class-for-a-cause/
LOCATION:Tempo Training\, 785 W Ash St\, San Diego\, CA\, 92101\, United States
ATTACH;FMTTYPE=image/png:https://www.freshstart.org/wp-content/uploads/2024/12/Fresh-Start-January-2024-11.png
END:VEVENT
BEGIN:VEVENT
DTSTART;TZID=UTC:20250124T190000
DTEND;TZID=UTC:20250124T210000
DTSTAMP:20260423T133324
CREATED:20241226T183541Z
LAST-MODIFIED:20241226T183541Z
UID:4010-1737745200-1737752400@www.freshstart.org
SUMMARY:Mission Brewing Trivia Night - Kensington
DESCRIPTION:[vc_row][vc_column][vc_column_text css=””]Ready to put your music knowledge to the test? Join us on Friday\, January 24\, at Mission Brewing Kensington in support of Fresh Start Surgical Gifts and Unbranded for a Fresh Start! \nSwing by to support Fresh Start and make a difference in the lives of children and survivors. A $10 donation is suggested. Donate using the link below. https://freshstart.networkforgood.com/projects/243000-mission-brewing-fresh-start-trivia-night[/vc_column_text][/vc_column][/vc_row]
URL:https://www.freshstart.org/community-events/mission-brewing-trivia-night-kensington/
LOCATION:Mission Brewing Kensington\, 4067 Adams Ave\, San Diego\, CA\, 92116\, United States
ATTACH;FMTTYPE=image/webp:https://www.freshstart.org/wp-content/uploads/2024/12/FS-Mission-Brewing-Trivia-January-2025-flyer.webp
END:VEVENT
END:VCALENDAR