BEGIN:VCALENDAR
VERSION:2.0
PRODID:-//Charities for Children, Organizations to Help Children - ECPv6.9.0//NONSGML v1.0//EN
CALSCALE:GREGORIAN
METHOD:PUBLISH
X-ORIGINAL-URL:https://www.freshstart.org
X-WR-CALDESC:Events for Charities for Children, Organizations to Help Children
REFRESH-INTERVAL;VALUE=DURATION:PT1H
X-Robots-Tag:noindex
X-PUBLISHED-TTL:PT1H
BEGIN:VTIMEZONE
TZID:UTC
BEGIN:STANDARD
TZOFFSETFROM:+0000
TZOFFSETTO:+0000
TZNAME:UTC
DTSTART:20250101T000000
END:STANDARD
END:VTIMEZONE
BEGIN:VEVENT
DTSTART;TZID=UTC:20250301T180500
DTEND;TZID=UTC:20250301T180500
DTSTAMP:20260422T044656
CREATED:20250227T013745Z
LAST-MODIFIED:20250227T013826Z
UID:4160-1740852300-1740852300@www.freshstart.org
SUMMARY:Rally For A Cause
DESCRIPTION:Gear up for another exhilarating game and cheer on the San Diego Mojo! Please join us Saturday\, March 1\, to watch some Major League Volleyball and support children in need. 20% of ticket sales sold through our link will be donated to Fresh Start and Unbranded. \nVisit https://fevo-enterprise.com/s/other/unbrandedforareshstart?purl=0a1df643e4d6  to purchase your tickets!
URL:https://www.freshstart.org/community-events/rally-for-a-cause/
LOCATION:Viejas Arena at SDSU\, 5500 Canyon Crest Drive\, San Diego\, CA\, 92182\, United States
ATTACH;FMTTYPE=image/jpeg:https://www.freshstart.org/wp-content/uploads/2025/02/V4-e1740620127221.jpg
END:VEVENT
BEGIN:VEVENT
DTSTART;TZID=UTC:20250308T070000
DTEND;TZID=UTC:20250308T070000
DTSTAMP:20260422T044656
CREATED:20250208T014030Z
LAST-MODIFIED:20250208T014030Z
UID:4114-1741417200-1741417200@www.freshstart.org
SUMMARY:Mermaid Run San Diego
DESCRIPTION:[vc_row][vc_column][vc_column_text css=””]Join us in San Diego on Saturday\, March 8\, and soak up the sun with a half marathon. Use code FRESHSTART for an exclusive 10% off! 100% of every donation made during registration supports Fresh Start. \nClick here to register. See you there![/vc_column_text][/vc_column][/vc_row]
URL:https://www.freshstart.org/community-events/mermaid-run-san-diego/
LOCATION:Tecolote Shores\, 1740 E Mission Bay Dr\, San Diego\, CA\, 92109\, United States
ATTACH;FMTTYPE=image/jpeg:https://www.freshstart.org/wp-content/uploads/2025/02/MermaidSeries-March8-800w.jpg
END:VEVENT
BEGIN:VEVENT
DTSTART;TZID=UTC:20250309T170000
DTEND;TZID=UTC:20250309T210000
DTSTAMP:20260422T044656
CREATED:20241226T182450Z
LAST-MODIFIED:20250227T182431Z
UID:4003-1741539600-1741554000@www.freshstart.org
SUMMARY:33rd Annual Celebrity Golf Classic Pre-Tournament Dinner
DESCRIPTION:*REGISTRATION FOR THIS EVENT IS NOW OPEN* Join us at the 33rd Annual Celebrity Golf Classic\, hosted by Alfonso Ribeiro! Kick off the event on Sunday\, March 9\, with a lively dinner featuring auctions\, entertainment and plenty of excitement at Hilton Del Mar. All proceeds support Fresh Start Surgical Gifts\, providing life-changing medical care to children in need. Don’t miss this chance to make a difference while enjoying an incredible weekend! Reach out to Brandy Schwab at Brandy@FreshStart.org for more information or visit the link below. https://freshstartsg.ejoinme.org/MyEvents/2025SanDiegoCelebrityGolfClassic/tabid/1491658/Default.aspx \n 
URL:https://www.freshstart.org/community-events/33rd-annual-celebrity-golf-classic-pre-tournament-dinner/
LOCATION:Hilton Del Mar\, 15575 Jimmy Durante Blvd.\, Del Mar\, 92014\, United States
ATTACH;FMTTYPE=image/jpeg:https://www.freshstart.org/wp-content/uploads/2024/12/Golf-Classic-Event-Flyer-scaled.jpg
END:VEVENT
BEGIN:VEVENT
DTSTART;TZID=UTC:20250310T073000
DTEND;TZID=UTC:20250310T073000
DTSTAMP:20260422T044656
CREATED:20241226T183038Z
LAST-MODIFIED:20250128T182631Z
UID:4007-1741591800-1741591800@www.freshstart.org
SUMMARY:33rd Annual Celebrity Golf Classic Hosted by Alfonso Ribeiro
DESCRIPTION:[vc_row][vc_column][vc_column_text css=””]*REGISTRATION FOR THIS EVENT IS NOW OPEN* There’s nothing quite like a day out on the green! Join us for the 33rd Annual Celebrity Golf Classic\, hosted by Alfonso Ribeiro in San Diego\, CA. Help us swing towards a brighter future for children in need of reconstructive surgery! Donations and sponsorships are still available. Reach out to Brandy Schwab at Brandy@FreshStart.org for more information or visit the link below. https://freshstartsg.ejoinme.org/MyEvents/2025SanDiegoCelebrityGolfClassic/tabid/1491658/Default.aspx[/vc_column_text][/vc_column][/vc_row]
URL:https://www.freshstart.org/community-events/33rd-annual-celebrity-golf-classic/
LOCATION:La Valle Coastal Club\, 5690 Cancha de Golf\, Rancho Sante Fe\, CA\, 92091\, United States
ATTACH;FMTTYPE=image/jpeg:https://www.freshstart.org/wp-content/uploads/2024/12/Golf-Classic-Event-Flyer-scaled.jpg
END:VEVENT
BEGIN:VEVENT
DTSTART;TZID=UTC:20250315T100000
DTEND;TZID=UTC:20250315T130000
DTSTAMP:20260422T044656
CREATED:20250311T233505Z
LAST-MODIFIED:20250311T233517Z
UID:4182-1742032800-1742043600@www.freshstart.org
SUMMARY:Be My Neighbor Day | San Antonio
DESCRIPTION:[vc_row][vc_column][vc_column_text css=””]Join us for Be My Neighbor Day\, an exciting and engaging event filled with games\, activities\, PBS Kids character meet and greets and much more. Nurse Angela will be available to answer questions or provide information about Fresh Start.[/vc_column_text][/vc_column][/vc_row]
URL:https://www.freshstart.org/community-events/be-my-neighbor/
LOCATION:Rosedale Park\, 303 Darthmouth St\, San Antonio\, TX\, 78237\, United States
ATTACH;FMTTYPE=image/jpeg:https://www.freshstart.org/wp-content/uploads/2025/03/Be-My-Neighbor.jpg
END:VEVENT
END:VCALENDAR