BEGIN:VCALENDAR
VERSION:2.0
PRODID:-//Charities for Children, Organizations to Help Children - ECPv6.9.0//NONSGML v1.0//EN
CALSCALE:GREGORIAN
METHOD:PUBLISH
X-ORIGINAL-URL:https://www.freshstart.org
X-WR-CALDESC:Events for Charities for Children, Organizations to Help Children
REFRESH-INTERVAL;VALUE=DURATION:PT1H
X-Robots-Tag:noindex
X-PUBLISHED-TTL:PT1H
BEGIN:VTIMEZONE
TZID:UTC
BEGIN:STANDARD
TZOFFSETFROM:+0000
TZOFFSETTO:+0000
TZNAME:UTC
DTSTART:20250101T000000
END:STANDARD
END:VTIMEZONE
BEGIN:VEVENT
DTSTART;VALUE=DATE:20250701
DTEND;VALUE=DATE:20251010
DTSTAMP:20260421T132515
CREATED:20250508T222333Z
LAST-MODIFIED:20250508T222333Z
UID:4300-1751328000-1760054399@www.freshstart.org
SUMMARY:Mermaid Virtual Race Across California
DESCRIPTION:[vc_row][vc_column][vc_column_text css=””]Whether you walk\, jog\, run\, bike\, swim or paddle\, join Mermaid Series for their 6th Annual Race Across California. With 100 days to complete your challenge(s)\, you can stay active while supporting a great cause at the same time. \nAll donations made through registration will directly benefit Fresh Start. Use code FRESHSTART for an exclusive 10% off! \nClick the link below for information: \nhttps://www.mermaidseries.com/race-across-california[/vc_column_text][/vc_column][/vc_row]
URL:https://www.freshstart.org/community-events/mermaid-virtual-race-across-california/
LOCATION:CA
ATTACH;FMTTYPE=image/png:https://www.freshstart.org/wp-content/uploads/2025/05/Mermaid-Series-Virtual-Race-Across-California-.png
END:VEVENT
BEGIN:VEVENT
DTSTART;TZID=UTC:20250802T100000
DTEND;TZID=UTC:20250802T120000
DTSTAMP:20260421T132515
CREATED:20250710T193009Z
LAST-MODIFIED:20250710T193009Z
UID:4492-1754128800-1754136000@www.freshstart.org
SUMMARY:Empower House's Back to School Fair | San Antonio
DESCRIPTION:[vc_row][vc_column][vc_column_text css=””]Fresh Start invites you to a fun-filled day at Empower House’s Back to School Resource Fair event! Kick off the school year at this free event\, which offers backpacks and school supplies at no cost\, along with music\, food\, refreshments\, community resources and more. \nStop by to enjoy the day and meet Nurse Angela\, who will be available to answer questions and share information about Fresh Start.[/vc_column_text][/vc_column][/vc_row]
URL:https://www.freshstart.org/community-events/empower-houses-back-to-school-fair-san-antonio/
LOCATION:Lockwood Park\, 801 N Olive St\, San Antonio\, TX\, 78202\, United States
ATTACH;FMTTYPE=image/jpeg:https://www.freshstart.org/wp-content/uploads/2025/07/2025-06-27-17.39.11.jpg
END:VEVENT
BEGIN:VEVENT
DTSTART;TZID=UTC:20250802T190000
DTEND;TZID=UTC:20250802T210000
DTSTAMP:20260421T132515
CREATED:20250729T202302Z
LAST-MODIFIED:20250729T202302Z
UID:4513-1754161200-1754168400@www.freshstart.org
SUMMARY:Pop Punk Music Trivia Night | Pretzels & Pints
DESCRIPTION:Ready to scream your heart out to the sounds of the 2000s? Join us for a fun night of music trivia packed with throwback anthems\, pretzels\, pints and a purpose. Test your knowledge of pop punk and rock out to your favorite songs. Though free to join\, a donation of $10 is suggested to support children in need of life-changing surgery and medical care and survivors of human trafficking. \nDonate using the link below: \nhttps://freshstart.networkforgood.com/projects/256024-pretzels-pints-fresh-start-music-trivia-night-pop-punk
URL:https://www.freshstart.org/community-events/pop-punk-music-trivia-night-pretzels-pints/
LOCATION:Pretzels & Pints\, 3812 Ray St\, San Diego\, CA\, 92104\, United States
ATTACH;FMTTYPE=image/jpeg:https://www.freshstart.org/wp-content/uploads/2025/07/Pretzels-Pints-Pop-Punk-Music-Trivia-Night-Flyer-600x750-1.jpg
END:VEVENT
BEGIN:VEVENT
DTSTART;TZID=UTC:20250806T160000
DTEND;TZID=UTC:20250806T180000
DTSTAMP:20260421T132515
CREATED:20250129T184737Z
LAST-MODIFIED:20250709T153226Z
UID:4083-1754496000-1754503200@www.freshstart.org
SUMMARY:Fresh Start Screening Clinic hosted by Vista Community Clinic
DESCRIPTION:[vc_row][vc_column][vc_column_text css=””]If you have a child or know of a child in need of reconstructive surgery but don’t have insurance or financial resources to cover the cost\, Fresh Start can help! You’re welcome to stop by any of the free screening clinics listed below. A Fresh Start medical staff member will be available to answer any questions you may have and determine if the child is eligible to proceed with the process of becoming a Fresh Start patient. Walk-ins are welcome\, or you can complete an application in advance here. If you need any assistance\, please call patient services at:\nEnglish: 760-579-9110.\nEspañol: 760-448-2012. \n  \n  \n  \n\n[/vc_column_text][/vc_column][/vc_row]
URL:https://www.freshstart.org/community-events/fresh-start-screening-clinic-hosted-by-vista-community-clinic-8-6/
LOCATION:Durian Pediatrics\, 105 Durian St\, Ste A\, Vista\, CA\, 92083\, United States
ATTACH;FMTTYPE=image/png:https://www.freshstart.org/wp-content/uploads/2025/01/fs-vcc-logo.png
END:VEVENT
BEGIN:VEVENT
DTSTART;TZID=UTC:20250809T160000
DTEND;TZID=UTC:20250809T180000
DTSTAMP:20260421T132515
CREATED:20250801T164717Z
LAST-MODIFIED:20250801T164717Z
UID:4523-1754755200-1754762400@www.freshstart.org
SUMMARY:Kendra Scott Giveback
DESCRIPTION:You’re invited to a Fresh Start giveback event with Kendra Scott at UTC. Shop for jewelry for yourself or loved ones while supporting a great cause. With every purchase\, 20% of the proceeds will benefit Fresh Start Surgical Gifts\, helping to provide life-changing surgeries and medical care to children. \nCan’t make it in? Shop online any time on Saturday\, August 9\, or Sunday\, August 10\, using code GIVEBACK-JQPTR at https://www.kendrascott.com/.
URL:https://www.freshstart.org/community-events/kendra-scott-giveback/
LOCATION:Kendra Scott UTC\, 4545 La Jolla Village Drive\, San Diego\, CA\, 92122\, United States
ATTACH;FMTTYPE=image/jpeg:https://www.freshstart.org/wp-content/uploads/2025/08/fsxks-Giveback-Event-Marketing-600x750-1.jpg
END:VEVENT
BEGIN:VEVENT
DTSTART;TZID=UTC:20250820T190000
DTEND;TZID=UTC:20250820T210000
DTSTAMP:20260421T132515
CREATED:20250811T163121Z
LAST-MODIFIED:20250811T163256Z
UID:4560-1755716400-1755723600@www.freshstart.org
SUMMARY:Decades Music Trivia Night | Coomber Craft Wines
DESCRIPTION:Experience the nostalgic anthems of the 1960s through the 2000s by joining us for a fun and friendly game of music trivia! Bring your friends\, sip delicious local wines and compete for awesome prizes while supporting a great cause. \nThis event is free to join\, but a suggested donation of $10 will help support children in need of life-changing surgeries and medical care\, as well as survivors of human trafficking. \nDonate using the link below: \nhttps://freshstart.networkforgood.com/projects/256425-coomber-craft-wines-fresh-start-music-trivia-night
URL:https://www.freshstart.org/community-events/decades-music-trivia-night-coomber-craft-wines/
LOCATION:Coomber Craft Wines\, 611 Mission Ave\, Oceanside\, CA\, 92054\, United States
ATTACH;FMTTYPE=image/jpeg:https://www.freshstart.org/wp-content/uploads/2025/08/Coomber-Wines-Music-trivia-1.jpg
END:VEVENT
END:VCALENDAR