BEGIN:VCALENDAR
VERSION:2.0
PRODID:-//Charities for Children, Organizations to Help Children - ECPv6.9.0//NONSGML v1.0//EN
CALSCALE:GREGORIAN
METHOD:PUBLISH
X-WR-CALNAME:Charities for Children, Organizations to Help Children
X-ORIGINAL-URL:https://www.freshstart.org
X-WR-CALDESC:Events for Charities for Children, Organizations to Help Children
REFRESH-INTERVAL;VALUE=DURATION:PT1H
X-Robots-Tag:noindex
X-PUBLISHED-TTL:PT1H
BEGIN:VTIMEZONE
TZID:UTC
BEGIN:STANDARD
TZOFFSETFROM:+0000
TZOFFSETTO:+0000
TZNAME:UTC
DTSTART:20250101T000000
END:STANDARD
END:VTIMEZONE
BEGIN:VEVENT
DTSTART;VALUE=DATE:20250701
DTEND;VALUE=DATE:20251010
DTSTAMP:20260420T070814
CREATED:20250508T222333Z
LAST-MODIFIED:20250508T222333Z
UID:4300-1751328000-1760054399@www.freshstart.org
SUMMARY:Mermaid Virtual Race Across California
DESCRIPTION:[vc_row][vc_column][vc_column_text css=””]Whether you walk\, jog\, run\, bike\, swim or paddle\, join Mermaid Series for their 6th Annual Race Across California. With 100 days to complete your challenge(s)\, you can stay active while supporting a great cause at the same time. \nAll donations made through registration will directly benefit Fresh Start. Use code FRESHSTART for an exclusive 10% off! \nClick the link below for information: \nhttps://www.mermaidseries.com/race-across-california[/vc_column_text][/vc_column][/vc_row]
URL:https://www.freshstart.org/community-events/mermaid-virtual-race-across-california/
LOCATION:CA
ATTACH;FMTTYPE=image/png:https://www.freshstart.org/wp-content/uploads/2025/05/Mermaid-Series-Virtual-Race-Across-California-.png
END:VEVENT
BEGIN:VEVENT
DTSTART;TZID=UTC:20250904T150000
DTEND;TZID=UTC:20250904T170000
DTSTAMP:20260420T070814
CREATED:20250129T183926Z
LAST-MODIFIED:20250709T153422Z
UID:4079-1756998000-1757005200@www.freshstart.org
SUMMARY:Fresh Start Screening Clinic hosted by TrueCare
DESCRIPTION:[vc_row][vc_column][vc_column_text css=””]If you have a child or know of a child in need of reconstructive surgery but don’t have insurance or financial resources to cover the cost\, Fresh Start can help! You’re welcome to stop by any of the free screening clinics listed below. A Fresh Start medical staff member will be available to answer any questions you may have and determine if the child is eligible to proceed with the process of becoming a Fresh Start patient. Walk-ins are welcome\, or you can complete an application in advance here. If you need any assistance\, please call patient services at:\nEnglish: 760-579-9110.\nEspañol: 760-448-2012.[/vc_column_text][/vc_column][/vc_row]
URL:https://www.freshstart.org/community-events/fresh-start-screening-clinic-hosted-by-truecare-9-4/
LOCATION:TrueCare\, 2210 Mesa Dr\, Ste 300\, Oceanside\, CA\, 92054\, United States
ATTACH;FMTTYPE=image/png:https://www.freshstart.org/wp-content/uploads/2025/01/fs-true-care-img.png
END:VEVENT
BEGIN:VEVENT
DTSTART;TZID=UTC:20250905T190000
DTEND;TZID=UTC:20250905T210000
DTSTAMP:20260420T070814
CREATED:20250902T173005Z
LAST-MODIFIED:20250902T173005Z
UID:4619-1757098800-1757106000@www.freshstart.org
SUMMARY:Old School Hip-Hop Music Trivia Night | Weir Beer
DESCRIPTION:[vc_row][vc_column][vc_column_text css=””]Get ready to test your knowledge and throw it back to the golden era of old school hip-hop at Weir Beer! Join us for a night packed with beats\, rhymes and friendly competition — all for a great cause. \nWith a suggested $10 donation\, this trivia night is free to play. You can also support Fresh Start Surgical Gifts by purchasing a drink — a portion of every drink sold will be donated. 100% of donations go toward transforming the lives of children in need of surgeries and medical care\, as well as survivors of human trafficking. \nDonate using the link below: \nhttps://freshstart.networkforgood.com/projects/257356-weir-beer-old-school-hip-hop-music-trivia-night[/vc_column_text][/vc_column][/vc_row]
URL:https://www.freshstart.org/community-events/old-school-hip-hop-music-trivia-night-weir-beer/
LOCATION:Weir Beer\, 1250 Keystone Way\, Vista\, CA\, 92081\, United States
ATTACH;FMTTYPE=image/jpeg:https://www.freshstart.org/wp-content/uploads/2025/09/Weir-Beer-Old-School-Hip-Hop-Music-Trivia-Flyer.jpg
END:VEVENT
BEGIN:VEVENT
DTSTART;TZID=UTC:20250906T100000
DTEND;TZID=UTC:20250906T110000
DTSTAMP:20260420T070814
CREATED:20250904T234650Z
LAST-MODIFIED:20250904T234650Z
UID:4631-1757152800-1757156400@www.freshstart.org
SUMMARY:Project QUEST Back-to-School Community Fair | San Antonio
DESCRIPTION:Fresh Start invites you to a fun-filled day at the Project QUEST Back-to-School Community Fair! Kick off the school year at this free event offering community resources\, backpacks\, school supplies and produce bags at no cost. \nStop by to enjoy the day and meet Nurse Angela\, who will be available to answer questions and share information about Fresh Start.
URL:https://www.freshstart.org/community-events/project-quest-back-to-school-community-fair-san-antonio/
LOCATION:Elmendorf Lake Park\, 3700 W Commerce St\, San Antonio\, TX\, 78207\, United States
ATTACH;FMTTYPE=image/jpeg:https://www.freshstart.org/wp-content/uploads/2025/09/back-to-school-flyer.jpg
END:VEVENT
END:VCALENDAR