BEGIN:VCALENDAR
VERSION:2.0
PRODID:-//Charities for Children, Organizations to Help Children - ECPv6.9.0//NONSGML v1.0//EN
CALSCALE:GREGORIAN
METHOD:PUBLISH
X-WR-CALNAME:Charities for Children, Organizations to Help Children
X-ORIGINAL-URL:https://www.freshstart.org
X-WR-CALDESC:Events for Charities for Children, Organizations to Help Children
REFRESH-INTERVAL;VALUE=DURATION:PT1H
X-Robots-Tag:noindex
X-PUBLISHED-TTL:PT1H
BEGIN:VTIMEZONE
TZID:UTC
BEGIN:STANDARD
TZOFFSETFROM:+0000
TZOFFSETTO:+0000
TZNAME:UTC
DTSTART:20250101T000000
END:STANDARD
END:VTIMEZONE
BEGIN:VEVENT
DTSTART;TZID=UTC:20251108T083000
DTEND;TZID=UTC:20251108T083000
DTSTAMP:20260419T151847
CREATED:20250922T234205Z
LAST-MODIFIED:20250922T234346Z
UID:4677-1762590600-1762590600@www.freshstart.org
SUMMARY:Mermaid Series Trail Run | Woodside\, CA
DESCRIPTION:Enjoy the beautiful nature trails at Huddart Park by running\, walking or hiking — or by participating virtually! No matter the distance (3 to 9 miles\, a half marathon or more)\, you’ll be making a difference. So get active and support a great cause. Every donation made through registration will go directly to Fresh Start. Use code FRESHSTART for an exclusive 10% off! \n  \nSchedule: \n8:30 am – Sirena 6 Hour \n8:45 am – Half Marathon \n8:55 am – 9 Mile \n9:10 am – 6 Mile \n9:20 am – 3 Mile \n10:30 am – Mermaid Dash \n  \nClick the link below for more information: \nhttps://www.mermaidseries.com/mermaid-trail-run-huddart
URL:https://www.freshstart.org/community-events/mermaid-series-trail-run-woodside-ca/
LOCATION:Huddart Park\, 1100 Kings Mountain Rd\, Woodside\, CA\, 94062\, United States
ATTACH;FMTTYPE=image/png:https://www.freshstart.org/wp-content/uploads/2025/09/Nov.-8-Mermaid-Series.png
END:VEVENT
BEGIN:VEVENT
DTSTART;TZID=UTC:20251109T170000
DTEND;TZID=UTC:20251109T170000
DTSTAMP:20260419T151847
CREATED:20250806T232312Z
LAST-MODIFIED:20250930T184726Z
UID:4537-1762707600-1762707600@www.freshstart.org
SUMMARY:Celebrity Golf Classic Pre-Tournament Dinner | Dallas\, TX
DESCRIPTION:Join us for Fresh Start’s inaugural Celebrity Golf Classic\, hosted by Tim and Sherice Brown in Dallas\, TX. The pre-tournament dinner\, auction and program will be on November 9\, followed by the golf tournament on November 10. Both days will take place at the beautiful Stonebriar Country Club. This star-studded event includes a cocktail reception\, buffet dinner\, silent and live auction\, opportunity drawing and program — all for a great cause! \nClick the below link for dinner tickets\, foursomes or sponsorship opportunities! \nhttps://freshstartsg.ejoinme.org/MyEvents/FreshStartCelebrityGolfClassicDallas2025/tabid/1546564/Default.aspx
URL:https://www.freshstart.org/community-events/celebrity-golf-classic-pre-tournament-dinner-dallas-tx/
LOCATION:Stonebriar Country Club\, 5050 Country Club Dr\, Frisco\, TX\, 75034\, United States
ATTACH;FMTTYPE=image/jpeg:https://www.freshstart.org/wp-content/uploads/2025/08/fs-Dallas-Golf-2025-600x600-1.jpg
END:VEVENT
BEGIN:VEVENT
DTSTART;TZID=UTC:20251110T073000
DTEND;TZID=UTC:20251110T073000
DTSTAMP:20260419T151847
CREATED:20250806T231108Z
LAST-MODIFIED:20250930T192747Z
UID:4533-1762759800-1762759800@www.freshstart.org
SUMMARY:Celebrity Golf Classic Tournament | Dallas\, TX
DESCRIPTION:Join us for the first-ever Fresh Start Celebrity Golf Classic in Dallas\, TX\, hosted by Tim and Sherice Brown. The pre-tournament dinner\, auction and program will be on November 9\, followed by the golf tournament on November 10. Both days will take place at the beautiful Stonebriar Country Club. This is a hole-in-one event you won’t want to miss. Get the chance to golf with a celebrity in your foursome while helping us swing toward a brighter future for children in need of reconstructive surgery. The event is followed by an awards luncheon. \nClick the below link for dinner tickets\, foursomes or sponsorship opportunities! \nhttps://freshstartsg.ejoinme.org/MyEvents/FreshStartCelebrityGolfClassicDallas2025/tabid/1546564/Default.aspx
URL:https://www.freshstart.org/community-events/celebrity-golf-classic-tournament-dallas-tx/
LOCATION:Stonebriar Country Club\, 5050 Country Club Dr\, Frisco\, TX\, 75034\, United States
ATTACH;FMTTYPE=image/jpeg:https://www.freshstart.org/wp-content/uploads/2025/08/fs-Dallas-Golf-2025-600x600-1.jpg
END:VEVENT
BEGIN:VEVENT
DTSTART;TZID=UTC:20251115T170000
DTEND;TZID=UTC:20251115T170000
DTSTAMP:20260419T151847
CREATED:20250806T233615Z
LAST-MODIFIED:20250806T233803Z
UID:4539-1763226000-1763226000@www.freshstart.org
SUMMARY:34th Annual Butterfly Ball
DESCRIPTION:Enjoy cocktails\, dinner\, a silent and live auction\, live entertainment by the Highway Man Show featuring Tony Suraci and American Idol’s Makayla Phillips\, and an inspiring program as we come together under the stars to support life-changing surgeries and medical care for children in need. \nClick the below link to purchase dinner tickets or for sponsorship opportunities! \nhttps://freshstartsg.ejoinme.org/MyEvents/34thAnnualFreshStartButterflyBall/AuctionItemDonation/tabid/1544532/Default.aspx
URL:https://www.freshstart.org/community-events/34th-annual-butterfly-ball/
LOCATION:San Diego Air & Space Museum\, 2001 Pan American Plaza\, San Diego\, CA\, 92101\, United States
ATTACH;FMTTYPE=image/jpeg:https://www.freshstart.org/wp-content/uploads/2025/08/34th-annual-Gala-flyer-600x777-v2.jpg
END:VEVENT
BEGIN:VEVENT
DTSTART;TZID=UTC:20251127T064500
DTEND;TZID=UTC:20251127T064500
DTSTAMP:20260419T151847
CREATED:20251031T184507Z
LAST-MODIFIED:20251031T184507Z
UID:4714-1764225900-1764225900@www.freshstart.org
SUMMARY:Fresh Start Joins the O’side Turkey Trot
DESCRIPTION:We’re lacing up for a cause that changes lives! Join Fresh Start Surgical Gifts at this year’s O’side Turkey Trot as we raise awareness and support for children in need of life-changing reconstructive surgery and medical care — all provided 100% free of charge. \nEvery child deserves the chance to grow up confident\, healthy and proud of who they are. At Fresh Start\, our volunteer surgeons and medical teams transform the lives of children born with physical differences caused by birth defects\, accidents\, abuse or disease — right here in San Diego and across the nation. \nDonate $10 or more and we’ll send you a Fresh Start sports headband as a thank-you for helping kids on their journey to healing! \nPrefer to pick yours up in person? Stop by our Fresh Start table at the Turkey Trot — we’ll be there cheering on every runner and celebrating every act of kindness. \n100% of every dollar donated directly supports children’s medical care. \nTogether\, we can give kids a Fresh Start and make every step count! Click here for more information and registration.
URL:https://www.freshstart.org/community-events/fresh-start-joins-the-oside-turkey-trot/
LOCATION:North Coast Highway\, 330 North Coast Highway\, Oceanside\, CA\, 92054\, United States
ATTACH;FMTTYPE=image/png:https://www.freshstart.org/wp-content/uploads/2025/10/Fresh-Start-Turkey-Trot-Ad-FINAL.png
END:VEVENT
END:VCALENDAR